BEGIN:VCALENDAR
VERSION:2.0
PRODID:-//Irregular Warfare Center - ECPv6.15.20//NONSGML v1.0//EN
CALSCALE:GREGORIAN
METHOD:PUBLISH
X-ORIGINAL-URL:https://irregularwarfarecenter.org
X-WR-CALDESC:Events for Irregular Warfare Center
REFRESH-INTERVAL;VALUE=DURATION:PT1H
X-Robots-Tag:noindex
X-PUBLISHED-TTL:PT1H
BEGIN:VTIMEZONE
TZID:America/New_York
BEGIN:DAYLIGHT
TZOFFSETFROM:-0500
TZOFFSETTO:-0400
TZNAME:EDT
DTSTART:20220313T070000
END:DAYLIGHT
BEGIN:STANDARD
TZOFFSETFROM:-0400
TZOFFSETTO:-0500
TZNAME:EST
DTSTART:20221106T060000
END:STANDARD
BEGIN:DAYLIGHT
TZOFFSETFROM:-0500
TZOFFSETTO:-0400
TZNAME:EDT
DTSTART:20230312T070000
END:DAYLIGHT
BEGIN:STANDARD
TZOFFSETFROM:-0400
TZOFFSETTO:-0500
TZNAME:EST
DTSTART:20231105T060000
END:STANDARD
BEGIN:DAYLIGHT
TZOFFSETFROM:-0500
TZOFFSETTO:-0400
TZNAME:EDT
DTSTART:20240310T070000
END:DAYLIGHT
BEGIN:STANDARD
TZOFFSETFROM:-0400
TZOFFSETTO:-0500
TZNAME:EST
DTSTART:20241103T060000
END:STANDARD
END:VTIMEZONE
BEGIN:VTIMEZONE
TZID:America/New_York
BEGIN:DAYLIGHT
TZOFFSETFROM:-0500
TZOFFSETTO:-0400
TZNAME:EDT
DTSTART:20220313T070000
END:DAYLIGHT
BEGIN:STANDARD
TZOFFSETFROM:-0400
TZOFFSETTO:-0500
TZNAME:EST
DTSTART:20221106T060000
END:STANDARD
BEGIN:DAYLIGHT
TZOFFSETFROM:-0500
TZOFFSETTO:-0400
TZNAME:EDT
DTSTART:20230312T070000
END:DAYLIGHT
BEGIN:STANDARD
TZOFFSETFROM:-0400
TZOFFSETTO:-0500
TZNAME:EST
DTSTART:20231105T060000
END:STANDARD
BEGIN:DAYLIGHT
TZOFFSETFROM:-0500
TZOFFSETTO:-0400
TZNAME:EDT
DTSTART:20240310T070000
END:DAYLIGHT
BEGIN:STANDARD
TZOFFSETFROM:-0400
TZOFFSETTO:-0500
TZNAME:EST
DTSTART:20241103T060000
END:STANDARD
END:VTIMEZONE
BEGIN:VEVENT
DTSTART;VALUE=DATE:20230420
DTEND;VALUE=DATE:20230421
DTSTAMP:20260419T085254
CREATED:20230621T174653Z
LAST-MODIFIED:20230621T174653Z
UID:3797-1681948800-1682035199@irregularwarfarecenter.org
SUMMARY:Joint Staff Irregular Warfare Working Group
DESCRIPTION:The IWC is participating in the JS IW-SFA WG collaborative monthly meeting with stakeholders from DoD\, IA\, and Allies to address and coordinate IW policy\, doctrine\, and other critical IW issues relevant to US National Security.
URL:https://irregularwarfarecenter.org/event/joint-staff-irregular-warfare-working-group-5/
CATEGORIES:Engagement
ATTACH;FMTTYPE=image/jpeg:https://irregularwarfarecenter.org/wp-content/uploads/engagement.jpg
END:VEVENT
BEGIN:VEVENT
DTSTART;VALUE=DATE:20230403
DTEND;VALUE=DATE:20230408
DTSTAMP:20260419T085254
CREATED:20230120T000409Z
LAST-MODIFIED:20230125T152901Z
UID:2288-1680480000-1680911999@irregularwarfarecenter.org
SUMMARY:TILT-C 23-2 : SOCOM
DESCRIPTION:ACTUAL DATE TBD \nRegistration: Closed
URL:https://irregularwarfarecenter.org/event/tilt-c-23-2-socom/
LOCATION:Tampa\, FL
CATEGORIES:TILT-C Course
ATTACH;FMTTYPE=image/jpeg:https://irregularwarfarecenter.org/wp-content/uploads/event-tilt-c.jpg
END:VEVENT
BEGIN:VEVENT
DTSTART;VALUE=DATE:20230323
DTEND;VALUE=DATE:20230324
DTSTAMP:20260419T085254
CREATED:20230127T133703Z
LAST-MODIFIED:20230127T133703Z
UID:2465-1679529600-1679615999@irregularwarfarecenter.org
SUMMARY:Georgetown IW Seminar
DESCRIPTION:In partnership with Georgetown University\, the IWC will host a two-hour seminar on the establishment of the Center\, explore the definition of IW and examine a Ukranian case-study with ROTC Cadets\, Cadre\, Military Graduate students from DoD\, Veteran Students and University Professors. Attendees will have the chance to hear from IWC leadership and network with other academics and professionals in the IW community after the seminar concludes. \n  \n  \n 
URL:https://irregularwarfarecenter.org/event/georgetown-iw-seminar/
LOCATION:Washington\, DC
CATEGORIES:Event
ATTACH;FMTTYPE=image/jpeg:https://irregularwarfarecenter.org/wp-content/uploads/event-gen.jpg
END:VEVENT
BEGIN:VEVENT
DTSTART;VALUE=DATE:20230316
DTEND;VALUE=DATE:20230318
DTSTAMP:20260419T085254
CREATED:20230127T133510Z
LAST-MODIFIED:20230309T182751Z
UID:2462-1678924800-1679097599@irregularwarfarecenter.org
SUMMARY:IWC International Irregular Warfare Week
DESCRIPTION:This working group is a follow-up for the survey and interviews conducted by the IWC Integration and Engagement department with the intent to compare and contrast the conceptualization of IW between different European institutions. This event will expose the National Capital Region IW community to the European conceptualization of IW to better understand differences and potential connection points enabling more effective international cooperation. \nAgenda\n(Click image to download PDF)
URL:https://irregularwarfarecenter.org/event/european-academic-iw-working-group/
LOCATION:Arlington\, VA
CATEGORIES:Event
ATTACH;FMTTYPE=image/jpeg:https://irregularwarfarecenter.org/wp-content/uploads/event-gen.jpg
END:VEVENT
BEGIN:VEVENT
DTSTART;VALUE=DATE:20230316
DTEND;VALUE=DATE:20230317
DTSTAMP:20260419T085254
CREATED:20230621T174618Z
LAST-MODIFIED:20230621T174618Z
UID:3796-1678924800-1679011199@irregularwarfarecenter.org
SUMMARY:Joint Staff Irregular Warfare Working Group
DESCRIPTION:The IWC is participating in the JS IW-SFA WG collaborative monthly meeting with stakeholders from DoD\, IA\, and Allies to address and coordinate IW policy\, doctrine\, and other critical IW issues relevant to US National Security.
URL:https://irregularwarfarecenter.org/event/joint-staff-irregular-warfare-working-group-4/
CATEGORIES:Engagement
ATTACH;FMTTYPE=image/jpeg:https://irregularwarfarecenter.org/wp-content/uploads/engagement.jpg
END:VEVENT
BEGIN:VEVENT
DTSTART;VALUE=DATE:20230306
DTEND;VALUE=DATE:20230311
DTSTAMP:20260419T085254
CREATED:20230125T193640Z
LAST-MODIFIED:20230207T140900Z
UID:2419-1678060800-1678492799@irregularwarfarecenter.org
SUMMARY:TILT-C 23-1 : US Interagency
DESCRIPTION:Registration: Accepting Waitlist \nEvent is currently full\, but US government employees with TS/SCI clearances wishing to be added to the waitlist can submit their names\, title\, organization\, and contact info to info@irregularwarfarecenter.org\, subject: Waitlist Request for TILT-C 23-1.
URL:https://irregularwarfarecenter.org/event/tilt-c-23-1-us-interagency/
LOCATION:Washington\, DC
CATEGORIES:TILT-C Course
ATTACH;FMTTYPE=image/jpeg:https://irregularwarfarecenter.org/wp-content/uploads/event-tilt-c.jpg
END:VEVENT
BEGIN:VEVENT
DTSTART;VALUE=DATE:20230222
DTEND;VALUE=DATE:20230225
DTSTAMP:20260419T085254
CREATED:20230127T133320Z
LAST-MODIFIED:20230207T190848Z
UID:2458-1677024000-1677283199@irregularwarfarecenter.org
SUMMARY:IW Medical Resiliency Workshop
DESCRIPTION:The IW Medical Resiliency Workgroup is the Irregular Warfare Center’s initial working group for Irregular Warfare Medicine curriculum development. It will bring together US and FVEY surgeons to discuss medical coverage in contested or non-permissive environments in facilitated break-outs to identify capabilities and gaps and share findings to support the IWC’s medical security cooperation efforts.
URL:https://irregularwarfarecenter.org/event/iw-medical-resiliency-workshop/
LOCATION:Bethesda\, MD
CATEGORIES:Event
ATTACH;FMTTYPE=image/jpeg:https://irregularwarfarecenter.org/wp-content/uploads/IWMed-default.jpg
END:VEVENT
BEGIN:VEVENT
DTSTART;VALUE=DATE:20230216
DTEND;VALUE=DATE:20230217
DTSTAMP:20260419T085254
CREATED:20230621T174557Z
LAST-MODIFIED:20230621T174557Z
UID:3795-1676505600-1676591999@irregularwarfarecenter.org
SUMMARY:Joint Staff Irregular Warfare Working Group
DESCRIPTION:The IWC is participating in the JS IW-SFA WG collaborative monthly meeting with stakeholders from DoD\, IA\, and Allies to address and coordinate IW policy\, doctrine\, and other critical IW issues relevant to US National Security.
URL:https://irregularwarfarecenter.org/event/joint-staff-irregular-warfare-working-group-3/
CATEGORIES:Engagement
ATTACH;FMTTYPE=image/jpeg:https://irregularwarfarecenter.org/wp-content/uploads/engagement.jpg
END:VEVENT
END:VCALENDAR